BEGIN:VCALENDAR
VERSION:2.0
PRODID:-//Logo Fortbildungen - ECPv5.8.2//NONSGML v1.0//EN
CALSCALE:GREGORIAN
METHOD:PUBLISH
X-WR-CALNAME:Logo Fortbildungen
X-ORIGINAL-URL:https://logo-fortbildungen.de
X-WR-CALDESC:Veranstaltungen für Logo Fortbildungen
BEGIN:VTIMEZONE
TZID:UTC
BEGIN:STANDARD
TZOFFSETFROM:+0000
TZOFFSETTO:+0000
TZNAME:UTC
DTSTART:20230101T000000
END:STANDARD
END:VTIMEZONE
BEGIN:VEVENT
DTSTART;TZID=UTC:20230624T090000
DTEND;TZID=UTC:20230625T170000
DTSTAMP:20260424T171122
CREATED:20221126T213454Z
LAST-MODIFIED:20221126T214404Z
UID:3274-1687597200-1687712400@logo-fortbildungen.de
SUMMARY:Lese-Rechtschreibstörung (LRS) erkennen\, behandeln und individuell unterstützen
DESCRIPTION:Lese-Rechtschreibstörung (LRS)\n\n\n\nerkennen\, behandeln und individuell unterstützen\n \nIm Seminar lernt ihr ausführlich\, anschaulich und praxisnah:\n\ndie Grundlagen und aktuelle Erkenntnisse zum Schriftspracherwerb\ndie differenzialdiagnostische Kriterien einzuschätzen\nden richtigen Umgang mit Begriffen wie Legasthenie und Lese- Rechtschreibstörung\n Ideen für die Unterstützung durch das familiäre und schulische Umfeld kennen\nden Umgang mit LRS in der therapeutischen Arbeit kennen\n verschiedene erprobte Diagnostikverfahren (BAKO\, TEPHOBE\, SLRT\, SLS\, etc.) kennen\naus detaillierten modellorientierten Diagnostiken spezifische Therapieansätze abzuleiten\nDiagnostik- und Therapiebeispiele zu interpretieren\nmodellorientiert (z.B. Logogenmodell) Therapiekonzepte für LRS erarbeiten und evaluieren\neinen roten Faden für die Strukturierung der Therapie kennen\n\n\nDie Veranstaltung findet an den Veranstaltungstagen jeweils  von 09:00-17:00 statt. \nMaximale Teilnehmerzahl pro Veranstaltung: 12 TN \nKompakte Wissensvermittlung in der vorhandenen Zeit \nZertifikat und umfangreiche Teilnehmerunterlagen\, sowie Unterstützung nach dem Seminar inklusive \nRabatte bei Anmeldung mehrerer MitarbeiterInnen einer Praxis oder Einrichtung\, Rabatte für Auszubildende etc. \nZu den Videos und Profil auf Facebook: https://www.facebook.com/korbinian.burlefinger.87 \nZum Video auf Youtube unter: https://www.youtube.com/watch?v=sc5nrgnwCm4 \nAnmeldung per E-Mail an info@kbcoaching.org
URL:https://logo-fortbildungen.de/veranstaltungen/lese-rechtschreibstoerung-lrs-erkennen-behandeln-und-individuell-unterstuetzen-6/
LOCATION:Logopädiepraxis Korbinian Burlefinger\, Thalkirchnerstr. 129\, München\, Bayern\, 81371\, Deutschland
ATTACH;FMTTYPE=image/jpeg:https://logo-fortbildungen.de/wp-content/uploads/2020/10/LRS-Beitragsbild-scaled.jpg
ORGANIZER;CN="Korbinian%20Burlefinger-KBCoaching":MAILTO:info@kbcoaching.org
END:VEVENT
END:VCALENDAR